BEGIN:VCALENDAR
VERSION:2.0
PRODID:-//Church Admin Plugin//Website//EN
CALSCALE:GREGORIAN
METHOD:PUBLISH
BEGIN:VEVENT
UID:drop-in
TRANSP:OPAQUE
X-APPLE-TRAVEL-ADVISORY-BEHAVIOR:AUTOMATIC
DTSTART;VALUE=DATE:20260424T103000
DTEND;VALUE=DATE:20260424T123000
DTSTAMP:20260425T143530Z
CATEGORIES:Drop-in
LOCATION:2 Burrel Rd
DESCRIPTION:Come along with friends and have a coffee, chat or play games!
All welcome.
SUMMARY:Drop-in
END:VEVENT
END:VCALENDAR