BEGIN:VCALENDAR
VERSION:2.0
PRODID:-//Church Admin Plugin//Website//EN
CALSCALE:GREGORIAN
METHOD:PUBLISH
BEGIN:VEVENT
UID:quest-after-school-club
TRANSP:OPAQUE
X-APPLE-TRAVEL-ADVISORY-BEHAVIOR:AUTOMATIC
DTSTART;VALUE=DATE:20260417T163000
DTEND;VALUE=DATE:20260417T180000
DTSTAMP:20260425T143438Z
CATEGORIES:Children
LOCATION:2 Burrel Rd
DESCRIPTION:Children in years 3-6 and their friends are welcome to come for
fun ,games and learning about Jesus!
SUMMARY:Quest After School Club
END:VEVENT
END:VCALENDAR