BEGIN:VCALENDAR
VERSION:2.0
PRODID:-//Church Admin Plugin//Website//EN
CALSCALE:GREGORIAN
METHOD:PUBLISH
BEGIN:VEVENT
UID:family-service
TRANSP:OPAQUE
X-APPLE-TRAVEL-ADVISORY-BEHAVIOR:AUTOMATIC
DTSTART;VALUE=DATE:20260403T160000
DTEND;VALUE=DATE:20260403T170000
DTSTAMP:20260425T143350Z
CATEGORIES:Special Event
LOCATION:2 Burrle Rd
DESCRIPTION:Come and join us for a short family service remembering the
events of Good Friday! Hot cross buns and refreshments to be
served after the service.
SUMMARY:Family Service
END:VEVENT
END:VCALENDAR