BEGIN:VCALENDAR
VERSION:2.0
PRODID:-//Church Admin Plugin//Website//EN
CALSCALE:GREGORIAN
METHOD:PUBLISH
BEGIN:VEVENT
UID:march-of-witness
TRANSP:OPAQUE
X-APPLE-TRAVEL-ADVISORY-BEHAVIOR:AUTOMATIC
DTSTART;VALUE=DATE:20260403T110000
DTEND;VALUE=DATE:20260403T120000
DTSTAMP:20260425T143530Z
CATEGORIES:Special Event
LOCATION:All Saint's Parish Church
DESCRIPTION:The march starts at All Saint's Church and ends at the market
square in St Ives town.
SUMMARY:March of Witness
END:VEVENT
END:VCALENDAR