BEGIN:VCALENDAR
VERSION:2.0
PRODID:-//Church Admin Plugin//Website//EN
CALSCALE:GREGORIAN
METHOD:PUBLISH
BEGIN:VEVENT
UID:holiday-bible-club
TRANSP:OPAQUE
X-APPLE-TRAVEL-ADVISORY-BEHAVIOR:AUTOMATIC
DTSTART;VALUE=DATE:20260407T090000
DTEND;VALUE=DATE:20260407T123000
DTSTAMP:20260425T143208Z
CATEGORIES:Children
LOCATION:2 Burrel Rd
DESCRIPTION:We are pleased to welcome your primary school aged children to
our bible based holiday club! This is a free fun-filled week
which includes craft, games, ,music and drama. The club runs
from Tues 7th - Fri 10th April from 9am to 12.30. Booking
essential!
SUMMARY:Holiday Bible Club
END:VEVENT
END:VCALENDAR