BEGIN:VCALENDAR
VERSION:2.0
PRODID:-//Church Admin Plugin//Website//EN
CALSCALE:GREGORIAN
METHOD:PUBLISH
BEGIN:VEVENT
UID:immense-mens-breakfast
TRANSP:OPAQUE
X-APPLE-TRAVEL-ADVISORY-BEHAVIOR:AUTOMATIC
DTSTART;VALUE=DATE:20260425T083000
DTEND;VALUE=DATE:20260425T103000
DTSTAMP:20260425T143636Z
CATEGORIES:Men's
LOCATION:2 Burrel Rd
DESCRIPTION:Come along to join the men for fellowship and breakfast!
SUMMARY:Immense men's Breakfast
END:VEVENT
END:VCALENDAR