BEGIN:VCALENDAR
VERSION:2.0
PRODID:-//Church Admin Plugin//Website//EN
CALSCALE:GREGORIAN
METHOD:PUBLISH
BEGIN:VEVENT
UID:hooks-and-needles
TRANSP:OPAQUE
X-APPLE-TRAVEL-ADVISORY-BEHAVIOR:AUTOMATIC
DTSTART;VALUE=DATE:20260415T133000
DTEND;VALUE=DATE:20260415T153000
DTSTAMP:20260425T143523Z
CATEGORIES:Special Event
LOCATION:2 Burrel Rd
DESCRIPTION:Come and join us doing knitting, crocheting and other crafts!
SUMMARY:Hooks and Needles
END:VEVENT
END:VCALENDAR