BEGIN:VCALENDAR
VERSION:2.0
PRODID:-//Church Admin Plugin//Website//EN
CALSCALE:GREGORIAN
METHOD:PUBLISH
BEGIN:VEVENT
UID:babies-and-tots
TRANSP:OPAQUE
X-APPLE-TRAVEL-ADVISORY-BEHAVIOR:AUTOMATIC
DTSTART;VALUE=DATE:20260416T100000
DTEND;VALUE=DATE:20260416T113000
DTSTAMP:20260425T143350Z
CATEGORIES:Babies & Tots
LOCATION:2 Burrel rd
DESCRIPTION:Please come and join us with your babies & toddlers!
SUMMARY:Babies and tots
END:VEVENT
END:VCALENDAR