BEGIN:VCALENDAR
VERSION:2.0
PRODID:-//Church Admin Plugin//Website//EN
CALSCALE:GREGORIAN
METHOD:PUBLISH
BEGIN:VEVENT
UID:ladies-bible-study
TRANSP:OPAQUE
X-APPLE-TRAVEL-ADVISORY-BEHAVIOR:AUTOMATIC
DTSTART;VALUE=DATE:20260421T100000
DTEND;VALUE=DATE:20260421T120000
DTSTAMP:20260425T143642Z
CATEGORIES:Ladies
LOCATION:2 Burrel Rd
DESCRIPTION:Come and get stuck into God's word!
SUMMARY:Ladies Bible Study
END:VEVENT
END:VCALENDAR