BEGIN:VCALENDAR
VERSION:2.0
PRODID:-//Church Admin Plugin//Website//EN
CALSCALE:GREGORIAN
METHOD:PUBLISH
BEGIN:VEVENT
UID:church-service
TRANSP:OPAQUE
X-APPLE-TRAVEL-ADVISORY-BEHAVIOR:AUTOMATIC
DTSTART;VALUE=DATE:20260405T103000
DTEND;VALUE=DATE:20260405T120000
DTSTAMP:20260425T143355Z
CATEGORIES:Church
LOCATION:2 Burrel Rd
DESCRIPTION:Come along and join us as we worship God and learn what the
Bible says about how to 'do life' well!
SUMMARY:Church Service
END:VEVENT
END:VCALENDAR