BEGIN:VCALENDAR
VERSION:2.0
PRODID:-//Church Admin Plugin//Website//EN
CALSCALE:GREGORIAN
METHOD:PUBLISH
BEGIN:VEVENT
UID:youth
TRANSP:OPAQUE
X-APPLE-TRAVEL-ADVISORY-BEHAVIOR:AUTOMATIC
DTSTART;VALUE=DATE:20260424T190000
DTEND;VALUE=DATE:20260424T210000
DTSTAMP:20260425T143225Z
CATEGORIES:Youth
LOCATION:2 Burrel rd
DESCRIPTION:Come along and join us for fun and a time of learning about God
and His plan for your life.
SUMMARY:Youth
END:VEVENT
END:VCALENDAR