BEGIN:VCALENDAR
VERSION:2.0
PRODID:-//Church Admin Plugin//Website//EN
CALSCALE:GREGORIAN
METHOD:PUBLISH
BEGIN:VEVENT
UID:prayer-meeting
TRANSP:OPAQUE
X-APPLE-TRAVEL-ADVISORY-BEHAVIOR:AUTOMATIC
DTSTART;VALUE=DATE:20260422T103000
DTEND;VALUE=DATE:20260422T120000
DTSTAMP:20260425T143209Z
CATEGORIES:Church Prayer Meeting
LOCATION:2 Burrel Rd
DESCRIPTION:Prayer meeting
SUMMARY:Prayer Meeting
END:VEVENT
END:VCALENDAR