BEGIN:VCALENDAR
VERSION:2.0
PRODID:-//Church Admin Plugin//Website//EN
CALSCALE:GREGORIAN
METHOD:PUBLISH
BEGIN:VEVENT
UID:offering-sunday
TRANSP:OPAQUE
X-APPLE-TRAVEL-ADVISORY-BEHAVIOR:AUTOMATIC
DTSTART;VALUE=DATE:20260426T103000
DTEND;VALUE=DATE:20260426T120000
DTSTAMP:20260425T143208Z
CATEGORIES:Monthly Offering
LOCATION:2 Burrel Rd
DESCRIPTION:Offering Sunday
SUMMARY:Offering Sunday
END:VEVENT
END:VCALENDAR